BEGIN:VCALENDAR
VERSION:2.0
PRODID:-//ChamberMaster//Event Calendar 2.0//EN
METHOD:PUBLISH
X-PUBLISHED-TTL:P1H
REFRESH-INTERVAL:P1H
CALSCALE:GREGORIAN
BEGIN:VTIMEZONE
TZID:America/Chicago
BEGIN:DAYLIGHT
RRULE:FREQ=YEARLY;BYMONTH=3;BYDAY=2SU
DTSTART:20070101T000000
TZOFFSETFROM:-0600
TZOFFSETTO:-0500
TZNAME:Central Daylight Time
END:DAYLIGHT
BEGIN:STANDARD
RRULE:FREQ=YEARLY;BYMONTH=11;BYDAY=1SU
DTSTART:20070101T000000
TZOFFSETFROM:-0500
TZOFFSETTO:-0600
TZNAME:Central Standard Time
END:STANDARD
END:VTIMEZONE
BEGIN:VEVENT
DTSTART;TZID=America/Chicago:20230201T173000
DTEND;TZID=America/Chicago:20230201T193000
X-MICROSOFT-CDO-ALLDAYEVENT:FALSE
SUMMARY:February Member Mixer Sponsored by Dawson's Recycling
DESCRIPTION:Come join us for our ABC-TCB member Mixer sponsored by Dawson's Recycling on February 1st from 5:30PM-7:30PM at the Nueces Brewing Co. for some networking\, food\, and drinks! Each person will get two free drink tickets at entry.
X-ALT-DESC;FMTTYPE=text/html:Come join us for our ABC-TCB member Mixer sponsored by Dawson's Recycling on February 1st from 5:30PM-7:30PM at the Nueces Brewing Co. for some networking\, food\, and drinks! Each person will get two free drink tickets at entry.
LOCATION:401 S Water St Corpus Christi TX 78401
UID:e.2526.763357
SEQUENCE:3
DTSTAMP:20260421T030523Z
URL:https://members.abctcb.org/rgvevents/Details/february-member-mixer-sponsored-by-dawson-s-recycling-829546?sourceTypeId=Hub
END:VEVENT
END:VCALENDAR
